BEGIN:VCALENDAR
VERSION:2.0
PRODID:-//eventon.com NONSGML v1.0//EN
CALSCALE:GREGORIAN
METHOD:PUBLISH
BEGIN:VEVENT
UID:69e73fcf26d33
DTSTAMP:20260421T091351Z
DTSTART:20240302T100000Z
DTEND:20240302T225900Z
LOCATION:Schloß Hof Schloß Hof
SUMMARY:DER GESTIEFGELTE KATER!
DESCRIPTION:DER GESTIEFGELTE KATER!\nhttps://www.gernotkranner.com/events/d
 er-gestiefgelte-kater-4/
URL:https://www.gernotkranner.com/events/der-gestiefgelte-kater-4/
END:VEVENT
END:VCALENDAR